BEGIN:VCALENDAR
VERSION:2.0
PRODID:-//AFSCME Local 444 - ECPv6.15.20//NONSGML v1.0//EN
CALSCALE:GREGORIAN
METHOD:PUBLISH
X-WR-CALNAME:AFSCME Local 444
X-ORIGINAL-URL:https://afscme444.org
X-WR-CALDESC:Events for AFSCME Local 444
REFRESH-INTERVAL;VALUE=DURATION:PT1H
X-Robots-Tag:noindex
X-PUBLISHED-TTL:PT1H
BEGIN:VTIMEZONE
TZID:America/Los_Angeles
BEGIN:DAYLIGHT
TZOFFSETFROM:-0800
TZOFFSETTO:-0700
TZNAME:PDT
DTSTART:20180311T100000
END:DAYLIGHT
BEGIN:STANDARD
TZOFFSETFROM:-0700
TZOFFSETTO:-0800
TZNAME:PST
DTSTART:20181104T090000
END:STANDARD
BEGIN:DAYLIGHT
TZOFFSETFROM:-0800
TZOFFSETTO:-0700
TZNAME:PDT
DTSTART:20190310T100000
END:DAYLIGHT
BEGIN:STANDARD
TZOFFSETFROM:-0700
TZOFFSETTO:-0800
TZNAME:PST
DTSTART:20191103T090000
END:STANDARD
BEGIN:DAYLIGHT
TZOFFSETFROM:-0800
TZOFFSETTO:-0700
TZNAME:PDT
DTSTART:20200308T100000
END:DAYLIGHT
BEGIN:STANDARD
TZOFFSETFROM:-0700
TZOFFSETTO:-0800
TZNAME:PST
DTSTART:20201101T090000
END:STANDARD
BEGIN:DAYLIGHT
TZOFFSETFROM:-0800
TZOFFSETTO:-0700
TZNAME:PDT
DTSTART:20210314T100000
END:DAYLIGHT
BEGIN:STANDARD
TZOFFSETFROM:-0700
TZOFFSETTO:-0800
TZNAME:PST
DTSTART:20211107T090000
END:STANDARD
END:VTIMEZONE
BEGIN:VEVENT
DTSTART;TZID=America/Los_Angeles:20200220T173000
DTEND;TZID=America/Los_Angeles:20200220T203000
DTSTAMP:20260424T020338
CREATED:20191203T134204Z
LAST-MODIFIED:20191223T092427Z
UID:270-1582219800-1582230600@afscme444.org
SUMMARY:General Membership Meeting
DESCRIPTION:General Membership Meeting takes place at 80 Swan Way Oakland\, CA  @ 5:30PM. AFSCME Local 444 holds our general membership meeting the third Thursday of each month. All members in good standing are welcome to attend. Food will be served. \n4:30PM MOU Committee \n5:00PM Stewards Meeting \n5:30PM General Membership Meeting 
URL:https://afscme444.org/event/general-membership-meeting-8
LOCATION:Zoom Conference Call\, Oakland\, CA\, 94612\, United States
END:VEVENT
BEGIN:VEVENT
DTSTART;TZID=America/Los_Angeles:20200206T150000
DTEND;TZID=America/Los_Angeles:20200206T180000
DTSTAMP:20260424T020338
CREATED:20191223T085841Z
LAST-MODIFIED:20191223T085841Z
UID:281-1581001200-1581012000@afscme444.org
SUMMARY:Executive Board Meeting
DESCRIPTION:
URL:https://afscme444.org/event/executive-board-meeting-8
END:VEVENT
BEGIN:VEVENT
DTSTART;VALUE=DATE:20200201
DTEND;VALUE=DATE:20200204
DTSTAMP:20260424T020338
CREATED:20191223T100801Z
LAST-MODIFIED:20200126T204736Z
UID:343-1580515200-1580774399@afscme444.org
SUMMARY:Vision 2020: AFSCME California People Convention
DESCRIPTION:This biennial convention not only includes official business voted on by delegates but also a number of workshops\, plenary sessions\, special guests and legislative lobbying visits. While only delegates are able to vote on official business\, AFSCME members throughout California are encouraged to attend as non-delegates and participate in the workshops\, plenary sessions and discussions. \nThe convention will take place in Sacramento.
URL:https://afscme444.org/event/vision-2020-afscme-california-people-convention
END:VEVENT
BEGIN:VEVENT
DTSTART;TZID=America/Los_Angeles:20200125T150000
DTEND;TZID=America/Los_Angeles:20200125T190000
DTSTAMP:20260424T020338
CREATED:20191223T095828Z
LAST-MODIFIED:20191223T101050Z
UID:339-1579964400-1579978800@afscme444.org
SUMMARY:Holiday Appeal for Class-War Prisoners
DESCRIPTION:The Partisan Defense Committee’s 34th Annual \nHoliday Appeal for Class-War Prisoners \nSaturday\, January 25th\, 3-7PM \nLocation: Oakstop 1721 Broadway\, Oakland near 19th St BART stop \n$10 donation * $5 students or unemployed \nThis is not charity-it’s an act of solidarity with those in prison. Their fight is our fight! \nAll proceeds go to the Class-War Prisoners Stipend Fund.  For more infor: (510) 839-0852 * pdcbayarea@fastmail.net * partisandefense.org
URL:https://afscme444.org/event/holiday-appeal-for-class-war-prisoners
LOCATION:Oakstop\, 1721 Broadway\, Oakland\, CA\, United States
ORGANIZER;CN="Partisan Defense Committee":MAILTO:pdcbayarea@fastmail.net
END:VEVENT
BEGIN:VEVENT
DTSTART;TZID=America/Los_Angeles:20200116T093000
DTEND;TZID=America/Los_Angeles:20200116T123000
DTSTAMP:20260424T020338
CREATED:20191203T134106Z
LAST-MODIFIED:20191223T092248Z
UID:268-1579167000-1579177800@afscme444.org
SUMMARY:General Membership Meeting
DESCRIPTION:General Membership Meeting takes place at 80 Swan Way Oakland\, CA  @ 5:30PM. AFSCME Local 444 holds our general membership meeting the third Thursday of each month. All members in good standing are welcome to attend. Food will be served. \n4:30PM MOU Committee \n5:00PM Stewards Meeting \n5:30PM General Membership Meeting  \n 
URL:https://afscme444.org/event/general-membership-meeting-7
LOCATION:Zoom Conference Call\, Oakland\, CA\, 94612\, United States
END:VEVENT
BEGIN:VEVENT
DTSTART;TZID=America/Los_Angeles:20200102T150000
DTEND;TZID=America/Los_Angeles:20200102T180000
DTSTAMP:20260424T020338
CREATED:20191223T085551Z
LAST-MODIFIED:20191223T085746Z
UID:279-1577977200-1577988000@afscme444.org
SUMMARY:Executive Board Meeting
DESCRIPTION:
URL:https://afscme444.org/event/executive-board-meeting-7
END:VEVENT
BEGIN:VEVENT
DTSTART;TZID=America/Los_Angeles:20191219T093000
DTEND;TZID=America/Los_Angeles:20191219T110000
DTSTAMP:20260424T020338
CREATED:20190828T073345Z
LAST-MODIFIED:20191203T122452Z
UID:234-1576747800-1576753200@afscme444.org
SUMMARY:General Membership Meeting
DESCRIPTION:General Membership Meeting takes place at 80 Swan Way Oakland\, CA  @ 5:30PM Thursday\, December 19\, 2019 GMM. AFSCME Local 444 holds our general membership meeting the third Thursday of each month. All members in good standing are welcome to attend. Food will be served.
URL:https://afscme444.org/event/general-membership-meeting-6
LOCATION:Zoom Conference Call\, Oakland\, CA\, 94612\, United States
END:VEVENT
BEGIN:VEVENT
DTSTART;TZID=America/Los_Angeles:20191003T080000
DTEND;TZID=America/Los_Angeles:20191003T103000
DTSTAMP:20260424T020338
CREATED:20190828T072821Z
LAST-MODIFIED:20190828T073118Z
UID:231-1570089600-1570098600@afscme444.org
SUMMARY:Executive Board Meeting
DESCRIPTION:The AFSCME Local 444 Executive Board meets on the first Thursday of every month.
URL:https://afscme444.org/event/executive-board-meeting-6
LOCATION:AFSCME Local 444 Office\, 7901 Oakport St.\, Suite 1800\, Oakland\, CA\, 94621\, United States
END:VEVENT
BEGIN:VEVENT
DTSTART;TZID=America/Los_Angeles:20190919T103000
DTEND;TZID=America/Los_Angeles:20190919T123000
DTSTAMP:20260424T020338
CREATED:20190815T033819Z
LAST-MODIFIED:20190828T071109Z
UID:221-1568889000-1568896200@afscme444.org
SUMMARY:General Membership Meeting
DESCRIPTION:Votes will be cast for 2nd Vice President at the September 2019 meeting. Candidates are Gilbert Loredo and Tony Martin. Nominations for the vacant Member Relations Secretary position will also be taken. AFSCME Local 444 holds our general membership meeting the third Thursday of each month. All members in good standing are welcome to attend.
URL:https://afscme444.org/event/general-membership-meeting-5
LOCATION:Zoom Conference Call\, Oakland\, CA\, 94612\, United States
END:VEVENT
BEGIN:VEVENT
DTSTART;TZID=America/Los_Angeles:20190905T080000
DTEND;TZID=America/Los_Angeles:20190905T100000
DTSTAMP:20260424T020338
CREATED:20190815T034203Z
LAST-MODIFIED:20190815T034203Z
UID:224-1567670400-1567677600@afscme444.org
SUMMARY:Executive Board Meeting
DESCRIPTION:The AFSCME Local 444 Executive Board meets on the first Thursday of each month.
URL:https://afscme444.org/event/executive-board-meeting-5
LOCATION:AFSCME Local 444 Office\, 7901 Oakport St.\, Suite 1800\, Oakland\, CA\, 94621\, United States
END:VEVENT
BEGIN:VEVENT
DTSTART;TZID=America/Los_Angeles:20190815T103000
DTEND;TZID=America/Los_Angeles:20190815T133000
DTSTAMP:20260424T020338
CREATED:20190628T022919Z
LAST-MODIFIED:20190628T022919Z
UID:159-1565865000-1565875800@afscme444.org
SUMMARY:General Membership Meeting
DESCRIPTION:AFSCME Local 444 holds our general membership meeting every third Thursday of the month. All members are welcome to attend.
URL:https://afscme444.org/event/general-membership-meeting-4
LOCATION:Zoom Conference Call\, Oakland\, CA\, 94612\, United States
END:VEVENT
BEGIN:VEVENT
DTSTART;TZID=America/Los_Angeles:20190801T080000
DTEND;TZID=America/Los_Angeles:20190801T103000
DTSTAMP:20260424T020338
CREATED:20190628T023533Z
LAST-MODIFIED:20190628T023533Z
UID:161-1564646400-1564655400@afscme444.org
SUMMARY:Executive Board Meeting
DESCRIPTION:The AFSCME Local 444 Executive Board meets on the first Thursday of every month.
URL:https://afscme444.org/event/executive-board-meeting-3
LOCATION:AFSCME Local 444 Office\, 7901 Oakport St.\, Suite 1800\, Oakland\, CA\, 94621\, United States
END:VEVENT
BEGIN:VEVENT
DTSTART;TZID=America/Los_Angeles:20190718T103000
DTEND;TZID=America/Los_Angeles:20190718T133000
DTSTAMP:20260424T020338
CREATED:20190628T022808Z
LAST-MODIFIED:20190628T022808Z
UID:157-1563445800-1563456600@afscme444.org
SUMMARY:General Membership Meeting
DESCRIPTION:AFSCME Local 444 holds our general membership meeting every third Thursday of the month. All members are welcome to attend.
URL:https://afscme444.org/event/general-membership-meeting-3
LOCATION:Zoom Conference Call\, Oakland\, CA\, 94612\, United States
END:VEVENT
BEGIN:VEVENT
DTSTART;TZID=America/Los_Angeles:20190703T080000
DTEND;TZID=America/Los_Angeles:20190703T100000
DTSTAMP:20260424T020338
CREATED:20190628T061938Z
LAST-MODIFIED:20190628T061938Z
UID:177-1562140800-1562148000@afscme444.org
SUMMARY:Executive Board Meeting
DESCRIPTION:The AFSCME Local 444 Executive Board meets on the first Thursday of every month
URL:https://afscme444.org/event/executive-board-meeting-4
LOCATION:AFSCME Local 444 Office\, 7901 Oakport St.\, Suite 1800\, Oakland\, CA\, 94621\, United States
END:VEVENT
BEGIN:VEVENT
DTSTART;TZID=America/Los_Angeles:20190620T103000
DTEND;TZID=America/Los_Angeles:20190620T133000
DTSTAMP:20260424T020338
CREATED:20190524T021050Z
LAST-MODIFIED:20190524T021050Z
UID:51-1561026600-1561037400@afscme444.org
SUMMARY:General Membership Meeting
DESCRIPTION:AFSCME Local 444 holds our general membership meeting every third Thursday of the month. All members are welcome to attend.
URL:https://afscme444.org/event/general-membership-meeting-2
LOCATION:Zoom Conference Call\, Oakland\, CA\, 94612\, United States
END:VEVENT
BEGIN:VEVENT
DTSTART;TZID=America/Los_Angeles:20190606T080000
DTEND;TZID=America/Los_Angeles:20190606T103000
DTSTAMP:20260424T020338
CREATED:20190524T020940Z
LAST-MODIFIED:20190524T020940Z
UID:49-1559808000-1559817000@afscme444.org
SUMMARY:Executive Board Meeting
DESCRIPTION:The AFSCME Local 444 Executive Board meets on the first Thursday of every month.
URL:https://afscme444.org/event/executive-board-meeting-2
LOCATION:AFSCME Local 444 Office\, 7901 Oakport St.\, Suite 1800\, Oakland\, CA\, 94621\, United States
END:VEVENT
BEGIN:VEVENT
DTSTART;TZID=America/Los_Angeles:20190516T103000
DTEND;TZID=America/Los_Angeles:20190516T133000
DTSTAMP:20260424T020338
CREATED:20190524T015850Z
LAST-MODIFIED:20190524T015850Z
UID:43-1558002600-1558013400@afscme444.org
SUMMARY:General Membership Meeting
DESCRIPTION:AFSCME Local 444 holds our general membership meeting every third Thursday of the month. All members are welcome to attend.
URL:https://afscme444.org/event/general-membership-meeting
LOCATION:Zoom Conference Call\, Oakland\, CA\, 94612\, United States
END:VEVENT
BEGIN:VEVENT
DTSTART;TZID=America/Los_Angeles:20190502T080000
DTEND;TZID=America/Los_Angeles:20190502T103000
DTSTAMP:20260424T020338
CREATED:20190524T015345Z
LAST-MODIFIED:20190524T015345Z
UID:40-1556784000-1556793000@afscme444.org
SUMMARY:Executive Board Meeting
DESCRIPTION:The AFSCME Local 444 Executive Board meets on the first Thursday of every month.
URL:https://afscme444.org/event/executive-board-meeting
LOCATION:AFSCME Local 444 Office\, 7901 Oakport St.\, Suite 1800\, Oakland\, CA\, 94621\, United States
END:VEVENT
END:VCALENDAR